BEGIN:VCALENDAR
VERSION:2.0
PRODID:-//CVA - ECPv6.15.20//NONSGML v1.0//EN
CALSCALE:GREGORIAN
METHOD:PUBLISH
X-WR-CALNAME:CVA
X-ORIGINAL-URL:https://clubevelaatlantico.pt
X-WR-CALDESC:Eventos para CVA
REFRESH-INTERVAL;VALUE=DURATION:PT1H
X-Robots-Tag:noindex
X-PUBLISHED-TTL:PT1H
BEGIN:VTIMEZONE
TZID:Europe/Lisbon
BEGIN:DAYLIGHT
TZOFFSETFROM:+0000
TZOFFSETTO:+0100
TZNAME:WEST
DTSTART:20230326T010000
END:DAYLIGHT
BEGIN:STANDARD
TZOFFSETFROM:+0100
TZOFFSETTO:+0000
TZNAME:WET
DTSTART:20231029T010000
END:STANDARD
BEGIN:DAYLIGHT
TZOFFSETFROM:+0000
TZOFFSETTO:+0100
TZNAME:WEST
DTSTART:20240331T010000
END:DAYLIGHT
BEGIN:STANDARD
TZOFFSETFROM:+0100
TZOFFSETTO:+0000
TZNAME:WET
DTSTART:20241027T010000
END:STANDARD
BEGIN:DAYLIGHT
TZOFFSETFROM:+0000
TZOFFSETTO:+0100
TZNAME:WEST
DTSTART:20250330T010000
END:DAYLIGHT
BEGIN:STANDARD
TZOFFSETFROM:+0100
TZOFFSETTO:+0000
TZNAME:WET
DTSTART:20251026T010000
END:STANDARD
END:VTIMEZONE
BEGIN:VEVENT
DTSTART;TZID=Europe/Lisbon:20240511T080000
DTEND;TZID=Europe/Lisbon:20240512T170000
DTSTAMP:20260423T021603
CREATED:20230921T152402Z
LAST-MODIFIED:20240509T132000Z
UID:8910-1715414400-1715533200@clubevelaatlantico.pt
SUMMARY:Troféu In Gold Hotel & SPA | 3ª Jornada
DESCRIPTION:« Todos Eventos\n 				\n				\n				\n				\n					Este evento já decorreu. \n				\n				\n				\n				\n					\n	Troféu In Gold Hotel & SPA | 3ª Jornada				\n				\n				\n						\n					\n			\n				\n					\n				\n									\n\n\n\n\n\n\n\n\n\n\n	\n		\n			Maio 11\, 2024		\n\n					\n				 			\n			\n				8:00			\n		\n									\n					 - 				\n			\n							\n					Maio 12\, 2024				\n\n									\n						 					\n					\n						17:00					\n				\n			\n						 \n\n\n\n\nA 3ª e última Jornada do Emblemático Troféu In Gold Hotel & Spa com a Classe de Cruzeiros ORC no dia 18 e a Classe Vela Ligeira entra em Regatas no dia 19 de Maio de 2024.Inscrições: \n\n\n\n\n\n\n\n\nInscrição Vela Ligeira\n\n\n\nInscrição Cruzeiro NHC\n\n\n\n\n\n\n\n\nInformações: \n\n\n\n\n\n\n\n\nAnúncio de Regata\n\n\n\nManual de Acolhimento\n\n\n\nRacing Rules Of Sailing\n\n\n\n\n\n\n\n\n	\n		Clube de Vela Atlântico\n	\n			919758911 \n					mail@clubevelaatlantico.pt \n	\n								\n					\n				\n					\n		\n					\n		\n				\n				\n					\n	\n\n	Categorias:	\n		Várias Classes	\n\n				\n				\n				\n						\n					\n			\n						\n				\n					\n	\n		\n\n	\n	Adicionar ao calendário	\n		\n	\n\n		\n			\n									\n	Calendário Google\n\n									\n	iCalendar\n\n									\n	Outlook 365\n\n									\n	Outlook Live\n\n							\n		\n\n		\n	\n\n				\n				\n					\n		\n					\n		\n				\n						\n					\n			\n						\n				\n					\n	\n		\n\n				2ª PAN SNIPE // Troféu Luso-Galaico 2024	\n\n\n		\n	\n		Troféu Luís Ferreira Alves / Troféu Cidade da Póvoa
URL:https://clubevelaatlantico.pt/event/trofeu-in-gold-hotel-spa-3/
CATEGORIES:Várias Classes
ATTACH;FMTTYPE=image/jpeg:https://clubevelaatlantico.pt/wp-content/uploads/2023/09/Cartaz_TIGHS_24_I-e1715250569932.jpg
END:VEVENT
END:VCALENDAR